BEGIN:VCALENDAR
VERSION:2.0
PRODID:-//Loudoun County Republican Committee - ECPv6.15.20//NONSGML v1.0//EN
CALSCALE:GREGORIAN
METHOD:PUBLISH
X-WR-CALNAME:Loudoun County Republican Committee
X-ORIGINAL-URL:https://loudoungop.com
X-WR-CALDESC:Events for Loudoun County Republican Committee
REFRESH-INTERVAL;VALUE=DURATION:PT1H
X-Robots-Tag:noindex
X-PUBLISHED-TTL:PT1H
BEGIN:VTIMEZONE
TZID:America/New_York
BEGIN:DAYLIGHT
TZOFFSETFROM:-0500
TZOFFSETTO:-0400
TZNAME:EDT
DTSTART:20220313T070000
END:DAYLIGHT
BEGIN:STANDARD
TZOFFSETFROM:-0400
TZOFFSETTO:-0500
TZNAME:EST
DTSTART:20221106T060000
END:STANDARD
BEGIN:DAYLIGHT
TZOFFSETFROM:-0500
TZOFFSETTO:-0400
TZNAME:EDT
DTSTART:20230312T070000
END:DAYLIGHT
BEGIN:STANDARD
TZOFFSETFROM:-0400
TZOFFSETTO:-0500
TZNAME:EST
DTSTART:20231105T060000
END:STANDARD
BEGIN:DAYLIGHT
TZOFFSETFROM:-0500
TZOFFSETTO:-0400
TZNAME:EDT
DTSTART:20240310T070000
END:DAYLIGHT
BEGIN:STANDARD
TZOFFSETFROM:-0400
TZOFFSETTO:-0500
TZNAME:EST
DTSTART:20241103T060000
END:STANDARD
BEGIN:DAYLIGHT
TZOFFSETFROM:-0500
TZOFFSETTO:-0400
TZNAME:EDT
DTSTART:20250309T070000
END:DAYLIGHT
BEGIN:STANDARD
TZOFFSETFROM:-0400
TZOFFSETTO:-0500
TZNAME:EST
DTSTART:20251102T060000
END:STANDARD
END:VTIMEZONE
BEGIN:VEVENT
DTSTART;TZID=America/New_York:20230509T180000
DTEND;TZID=America/New_York:20240509T200000
DTSTAMP:20260423T085413
CREATED:20240429T163021Z
LAST-MODIFIED:20240502T184608Z
UID:10000155-1683655200-1715284800@loudoungop.com
SUMMARY:Reception in Support of Mike Clancy for Congress
DESCRIPTION:You have been invited to attend a special reception to show your support for Mike Clancy’s campaign for the United States House of Representatives (VA-10). The event will feature special guest Ian Prior\, Executive Director of Fight for Schools and author of Parents of the World Unite!.  \nThe reception will be held Thursday May 9th at Social House Kitchen and Tap. We hope to see you there! \nSuggested Contribution: \nTickets:   Single Ticket $20;   Couple’s Ticket $40 \nSponsorships:  Gold $500;  Co-Host $1\,000;    Host $2\,500 \n  \nTo RSVP please call or email Valerie Osborne – contacts listed below
URL:https://loudoungop.com/event/reception-in-support-of-mike-clancy-for-congress/
LOCATION:Social House Kitchen and Tap\, 42841 Creek View Plaza\, Suite 145\, Ashburn\, VA\, 20147\, United States
CATEGORIES:Campaign Event,Events,Fundraising
ATTACH;FMTTYPE=image/jpeg:https://loudoungop.com/wp-content/uploads/2024/04/220126_MC_Websitecopy-15.jpg
ORGANIZER;CN="Valerie Osborne":MAILTO:ValerieOsborne@yahoo.com
END:VEVENT
BEGIN:VEVENT
DTSTART;TZID=America/New_York:20230521T183000
DTEND;TZID=America/New_York:20240521T203000
DTSTAMP:20260423T085413
CREATED:20240429T155128Z
LAST-MODIFIED:20240502T190821Z
UID:10000154-1684693800-1716323400@loudoungop.com
SUMMARY:"Bidenomics is Bad Economics" Event
DESCRIPTION:  \nAmericans for Prosperity is hosting a “Bidenomics is Bad Economics” Event at the Parallel Wine and Whiskey Bar in Broadlands\, VA. We encourage you to attend! \n  \nRSVP: https://americansforprosperity.actcentr.com/Events/afp-va-bidenomics-is-bad-economics-loudoun
URL:https://loudoungop.com/event/bidenomics-is-bad-economics-event/
LOCATION:Parallel Wine and Whiskey Bar\, 43135 Broadlands Center Plaza #121\, Broadlands\, VA\, 20148\, United States
CATEGORIES:Education,Events
ATTACH;FMTTYPE=image/jpeg:https://loudoungop.com/wp-content/uploads/2024/04/dummy-dollar-scaled-1600xauto@2x.jpg
END:VEVENT
BEGIN:VEVENT
DTSTART;TZID=America/New_York:20230625T140000
DTEND;TZID=America/New_York:20230625T163000
DTSTAMP:20260423T085413
CREATED:20230621T210208Z
LAST-MODIFIED:20230621T210208Z
UID:10000084-1687701600-1687710600@loudoungop.com
SUMMARY:Ashburn District Candidate Meet and Greet
DESCRIPTION:Join us for an “Ashburn District Candidate Meet and Greet” on Sunday\, June 25\, 2023\, at 2:00 PM (EDT) at 20060 Forest Farm Lane\, Ashburn\, VA\, 20147. \nAshburn District Candidate Meet and Greet Tickets\, Sun\, Jun 25\, 2023 at 2:00 PM | Eventbrite \nThe candidates (running for state and local office) look forward to meeting you\, getting to know you and understanding your concerns. \nYou’ll have the chance to ask questions\, share your thoughts\, and get to know the candidates on a more personal level. This is an excellent opportunity to make your voice heard and to learn more about the people who are running for office here in Belmont/Ashburn. Don’t miss this chance to meet these candidates and learn more about what they stand for and how they will represent us\, the residents of Belmont/Ashburn. \nWe hope to see you there! \nAshburn District Candidate Meet and Greet Tickets\, Sun\, Jun 25\, 2023 at 2:00 PM | Eventbrite \nPlease mark your calendar for Sunday\, June 25\, 2023\, at 2:00 PM (EDT) and join us at 20060 Forest Farm Lane\, Ashburn\, VA\, 20147\, for the Ashburn District Candidate Meet and Greet.
URL:https://loudoungop.com/event/ashburn-district-candidate-meet-and-greet/
CATEGORIES:Events
ATTACH;FMTTYPE=image/png:https://loudoungop.com/wp-content/uploads/2023/06/Candidate-Meet-and-Greet-June-25-8.5-×-11-in.png
END:VEVENT
END:VCALENDAR