BEGIN:VCALENDAR
VERSION:2.0
PRODID:-//Loudoun County Republican Committee - ECPv6.15.20//NONSGML v1.0//EN
CALSCALE:GREGORIAN
METHOD:PUBLISH
X-ORIGINAL-URL:https://loudoungop.com
X-WR-CALDESC:Events for Loudoun County Republican Committee
REFRESH-INTERVAL;VALUE=DURATION:PT1H
X-Robots-Tag:noindex
X-PUBLISHED-TTL:PT1H
BEGIN:VTIMEZONE
TZID:America/New_York
BEGIN:DAYLIGHT
TZOFFSETFROM:-0500
TZOFFSETTO:-0400
TZNAME:EDT
DTSTART:20220313T070000
END:DAYLIGHT
BEGIN:STANDARD
TZOFFSETFROM:-0400
TZOFFSETTO:-0500
TZNAME:EST
DTSTART:20221106T060000
END:STANDARD
BEGIN:DAYLIGHT
TZOFFSETFROM:-0500
TZOFFSETTO:-0400
TZNAME:EDT
DTSTART:20230312T070000
END:DAYLIGHT
BEGIN:STANDARD
TZOFFSETFROM:-0400
TZOFFSETTO:-0500
TZNAME:EST
DTSTART:20231105T060000
END:STANDARD
BEGIN:DAYLIGHT
TZOFFSETFROM:-0500
TZOFFSETTO:-0400
TZNAME:EDT
DTSTART:20240310T070000
END:DAYLIGHT
BEGIN:STANDARD
TZOFFSETFROM:-0400
TZOFFSETTO:-0500
TZNAME:EST
DTSTART:20241103T060000
END:STANDARD
BEGIN:DAYLIGHT
TZOFFSETFROM:-0500
TZOFFSETTO:-0400
TZNAME:EDT
DTSTART:20250309T070000
END:DAYLIGHT
BEGIN:STANDARD
TZOFFSETFROM:-0400
TZOFFSETTO:-0500
TZNAME:EST
DTSTART:20251102T060000
END:STANDARD
BEGIN:DAYLIGHT
TZOFFSETFROM:-0500
TZOFFSETTO:-0400
TZNAME:EDT
DTSTART:20260308T070000
END:DAYLIGHT
BEGIN:STANDARD
TZOFFSETFROM:-0400
TZOFFSETTO:-0500
TZNAME:EST
DTSTART:20261101T060000
END:STANDARD
END:VTIMEZONE
BEGIN:VEVENT
DTSTART;TZID=America/New_York:20250816T170000
DTEND;TZID=America/New_York:20250816T200000
DTSTAMP:20260421T003126
CREATED:20250718T160755Z
LAST-MODIFIED:20250718T162610Z
UID:10000550-1755363600-1755374400@loudoungop.com
SUMMARY:Candidate Fundraiser for Ommair Butt
DESCRIPTION:“Big Things Happen When We Come Together” \n\n\n\nDear Friends\, \n\n\n\nThis journey isn’t just about one person running for office — it’s about all of us standing up for the future we believe in. I’m truly humbled to invite you to an evening that means so much to me and to everyone who shares in this mission — my Candidate Reception. \n\n\n\nThis won’t be just another campaign event. It’s a celebration of our shared values\, a growing movement\, and the incredible community we’re proud to call home. \n\n\n\nI’m especially grateful to my friends who are helping make this evening unforgettable: \n\n\n\n💫 Hosted by Carrie-Anne Mosley\, former President of the Loudoun County Republican Women’s Club — a grassroots leader and champion for conservative values. \n\n\n\n🎤 Emceed by Ken Reid\, former Loudoun County Supervisor — a respected voice who truly understands our community. \n\n\n\n🤝 With support from Valerie Osborne\, senior Republican campaign strategist and 2024 campaign manager for Mike Clancy (VA-10). \n\n\n\nI’m honored to be joined by leaders I admire — mentors who’ve guided and inspired me on this journey. \n\n\n\nThis will be an evening of good food\, meaningful conversation\, and real people coming together to build something better. \n\n\n\n🎟️ RSVP or become a sponsor here: \n\n\n\n🔗 https://secure.anedot.com/ommair-for-virginia/605825d4-f23a-43c4-95f9-175ec5b6999f \n\n\n\nLet’s put Loudoun families first — politics second. \n\n\n\nI hope to see you there! \n\n\n\nRespectfully\, \n\n\n\nOmmair Butt \n\n\n\nRepublican Nominee  \n\n\n\nHouse of Delegates \n\n\n\nDistrict 26
URL:https://loudoungop.com/event/candidate-reception-for-ommair-butt/
CATEGORIES:Campaign Event,Fundraising,Meet & Greet,Social
ATTACH;FMTTYPE=image/jpeg:https://loudoungop.com/wp-content/uploads/2025/07/Ommair-Butt-Fundraiser-FINAL.jpg
END:VEVENT
BEGIN:VEVENT
DTSTART;TZID=America/New_York:20250629T140000
DTEND;TZID=America/New_York:20250629T170000
DTSTAMP:20260421T003126
CREATED:20250628T143545Z
LAST-MODIFIED:20250628T144435Z
UID:10000547-1751205600-1751216400@loudoungop.com
SUMMARY:Amy Riccardi Campaign Kickoff Event
DESCRIPTION:Amy Riccardi and her supporters are excited to bring common-sense education policy to the Loudoun County School Board! Join them for a campaign kickoff event where Amy will share her vision for the school board and for the Sterling District.  \n\n\n\nRegister at Amy4Sterling.com or scan the QR Code. \n\n\n\nLocation will be sent in confirmation email.
URL:https://loudoungop.com/event/amy-riccardi-campaign-kickoff-event/
CATEGORIES:Campaign Event
ATTACH;FMTTYPE=image/jpeg:https://loudoungop.com/wp-content/uploads/2025/06/Riccardi-Banner.jpeg
END:VEVENT
BEGIN:VEVENT
DTSTART;TZID=America/New_York:20241211T180000
DTEND;TZID=America/New_York:20241211T180000
DTSTAMP:20260421T003126
CREATED:20231121T213228Z
LAST-MODIFIED:20241210T024706Z
UID:10000175-1733940000-1733940000@loudoungop.com
SUMMARY:SOLD OUT: Christmas Party at Lightfoot Restaurant - SOLD OUT
DESCRIPTION:It’s that time again for the LCRC Christmas Party! \nThe Lightfoot Restaurant\, Leesburg VA. \n6PM – 7PM is Cocktail Hour \n7PM – 9:30PM Dinner and Program \n$70.00 per person \nSavory Christmas Chicken Schnitzel \nMouth Watering Vegetables and Potatoes \nMixed Green Salad with Vinaigrette
URL:https://loudoungop.com/event/christmas-party-at-lightfoot-restaurant/
LOCATION:Lightfoot Restaurant\, 11 N King St\, Leesburg\, Virginia\, 20176
CATEGORIES:Campaign Event,Events,Fundraising
ATTACH;FMTTYPE=image/png:https://loudoungop.com/wp-content/uploads/2023/11/Screenshot-from-2024-11-24-19-46-12.png
END:VEVENT
BEGIN:VEVENT
DTSTART;TZID=America/New_York:20241116T090000
DTEND;TZID=America/New_York:20241116T160000
DTSTAMP:20260421T003126
CREATED:20241110T030608Z
LAST-MODIFIED:20241112T185433Z
UID:10000173-1731747600-1731772800@loudoungop.com
SUMMARY:Special Election November 16th 2024 Republican 32nd District
DESCRIPTION:OFFICIAL CALL FOR ELECTIONS \nRublican Party of Virginia\nIssued November 9\, 2024 \nAs Chairman of the 32nd State Senate Legislative District Committee of the Republican Party of\nVirginia and pursuant to the State Party Plan of Organization\, I\, Robert G. Landrum\, do hereby\nissue this call for a Party Canvass or “Firehouse Primary” to be held concurrently at Cascades\nOverlook Event Center\, 21453 Epicerie Plaza\, Sterling\, Virginia 20164 and Guidepost\nMontessori of Aldie\, 24328 Marrwood Drive\, Aldie\, Virginia 20105\, starting at 10:00 AM local\ntime and ending at 4:00 PM local time on Saturday\, November 16\, 2024 for the purpose of\nnominating a Republican candidate for the office of State Senate from the 32nd District of\nVirginia. \nRepublican voters residing in the district are eligible to participate in this nomination process.\nQualifications for Participation \nAll legal and qualified voters of the 32nd State Senate District of Virginia\, under the laws of the\nCommonwealth of Virginia\, regardless of race\, religion\, national origin or sex\, who are in accord\nwith the principles of the Republican Party and who\, if requested\, express in open meeting –\neither orally or in writing as may be required – their intent to support all of its nominees for\npublic office in the ensuing election\, may participate as members of the Republican Party of\nVirginia in this party canvass encompassing the district. Voters will be required to present a valid\nphotographic identification as defined by the Virginia Department of Elections. No voter who\nrefuses to present such identification or sign such certification shall be permitted to vote. There\nwill be no registration fee for voters to participate in this Canvass. \nCandidate Filing Requirements\n1. Applicants for nomination shall file a written statement on the form attached hereto (“Official\nCandidate Filing Form”)\, including signature to the statement of intent and pledge to support\nRepublican candidates\, mailed or in person\, by appointment\, to Robert G. Landrum\, Chairman\,\n32nd State Senate Legislative District Committee of the Republican Party of Virginia\, 23742\nFarmington Hills Court\, Aldie\, Virginia 20105\, which must be received by 6:00 PM local time on\nWednesday\, November 13\, 2024. Postmarks shall not govern.\n2. Pay the sum of $100.00 by check\, made out to the Loudoun County Republican Committee\,\nmailed or in person\, by appointment\, to Robert G. Landrum\, Chairman\, 32nd State Senate\nLegislative District Committee of the Republican Party of Virginia\, 23742 Farmington Hills\nCourt\, Aldie\, Virginia 20105\, which must be received by 6:00 PM local time on Wednesday\,\nNovember 13\, 2024. Postmarks shall not govern. \nThe failure of any person to fully and timely satisfy the aforesaid requirements shall preclude\nthem from running for the Republican nomination of State Senator for the 32nd District of\nVirginia. If not more than one qualified person files for election as the Republican nominee for\nthe office of State Senator from the 32nd District of Virginia\, the Party Canvass shall be\ncancelled\, and the one qualified applicant shall be deemed automatically nominated.\nRules \n1. Ballot order will be determined by lot.\n2. The winner of a tie will be determined by lot.\n3. There will be no write-in votes\, absentee ballots\, or proxy votes allowed.\n4. Polls will close at 4:00 PM sharp. Only those in line to vote at 4:00 PM will be allowed to\nvote.\n5. Candidates and their advocates may not campaign within 30 feet of the exterior door of a\npolling station.\n6. Voters may begin to line up at 9:30 AM\, but voting will not begin until 10:00 AM.\n7. Other rules\, requirements and procedures deemed necessary for the orderly conduct of said \nCanvass adopted by the 32nd State Senate Legislative District Committee of the Republican Party\nof Virginia for said Canvass shall be deemed to have full force and effect as if set forth verbatim\nin this call. \nApproval\, Publication\, and Revisions\nThe 32nd State Senate Legislative District Committee of the Republican Party of Virginia voted\nat a duly called meeting on Saturday\, November 9\, (1) to approve the terms of this Call\, and (2)\nto waive publication of this Call in a newspaper.\nThe Call for this Party Canvass and filing form is herewith published on the websites of the\nRepublican Party of Virginia and the Loudoun County Republican Committee at the following\nlinks: \nhttp://www.virginia.gop/events/category/official-call/\nhttp://www.LoudounGOP.com/ \nThis Party Canvas Call is authorized and paid for by the 32nd State Senate Legislative District\nCommittee of the Republican Party of Virginia. Robert G. Landrum is the Chairman of the\nCommittee. Inquiries or questions may be addressed to Mr. Landrum at (703) 542-7572 \nDOWNLOAD FORM AND CANDIDATE FILING FORM BELOW \nCallPartyCanvassStateSenate32_2024_11_09
URL:https://loudoungop.com/event/special-election-november-16th-2024-republican-32nd-district/
CATEGORIES:Campaign Event,Canvass / Primary Election
ATTACH;FMTTYPE=image/jpeg:https://loudoungop.com/wp-content/uploads/2024/11/senate-race.jpg
END:VEVENT
BEGIN:VEVENT
DTSTART;TZID=America/New_York:20240613T180000
DTEND;TZID=America/New_York:20240613T210000
DTSTAMP:20260421T003126
CREATED:20240610T030428Z
LAST-MODIFIED:20240610T030852Z
UID:10000161-1718301600-1718312400@loudoungop.com
SUMMARY:Scott Presler Outreach Training
DESCRIPTION:GOTV Training with Scott Presler \nCo-hosted by the Fairfax GOP & Loudoun GOP\nThursday\, June 13 from 6:00 – 9:00 pm \nTicket price: $25 \nFairfax Marriott at Fair Oaks \n11787 Rt 50\,  Fairfax VA 22033 \nDoor open for check-in at 6:00 pm\n \nEvent begins at 6:45 pm \nLight refreshments\n\nCash bar will be available \nTO BUY TICKETS: https://fairfaxgop.org/presler
URL:https://loudoungop.com/event/scott-presler-outreach-training/
LOCATION:Fairfax Marriott\, 11787 Rt 50\, Fairfax\, 22033\, United States
CATEGORIES:Campaign Event,Education
ATTACH;FMTTYPE=image/png:https://loudoungop.com/wp-content/uploads/2024/06/presler-flyer.png
END:VEVENT
BEGIN:VEVENT
DTSTART;TZID=America/New_York:20240608T180000
DTEND;TZID=America/New_York:20240608T200000
DTSTAMP:20260421T003126
CREATED:20230531T014415Z
LAST-MODIFIED:20240604T160651Z
UID:10000158-1717869600-1717876800@loudoungop.com
SUMMARY:Meet & Greet with Eddie Garcia\, Candidate for US Senate
DESCRIPTION:Join us for a Meet and Greet event hosted by Ana Rosario Quijano\, Julie Perry\, and Tiffany Polifko for Eddie Garcia\, Candidate for the US Senate. \nCome meet Eddie Garcia in person at Joe’s Restaurant in Sterling\, enjoy great food\, and engage in meaningful conversations. We hope to see you there! \n 
URL:https://loudoungop.com/event/meet-greet-with-eddie-garcia-candidate-for-us-senate/
LOCATION:Joe’s Restaurant\, 22360 S Sterling Blvd\, Sterling\, VA\, 20164\, United States
CATEGORIES:Campaign Event,Meet & Greet
ATTACH;FMTTYPE=image/jpeg:https://loudoungop.com/wp-content/uploads/2024/05/412383686_1574998319975874_193715390806249398_n.jpg
END:VEVENT
BEGIN:VEVENT
DTSTART;TZID=America/New_York:20240511T160000
DTEND;TZID=America/New_York:20240511T160000
DTSTAMP:20260421T003126
CREATED:20240506T143359Z
LAST-MODIFIED:20240506T144832Z
UID:10000156-1715443200-1715443200@loudoungop.com
SUMMARY:Fundraiser in support of U.S. Congressional candidiate Alex Isaac
DESCRIPTION:Alex Isaac for Congress cordially invites you to a fundriaser in support of his campaign for U.S. Congressional District 10! \nThe event will be held Saturday May 11th at Spanky’s Shenanigans in Leesburg. We hope to see you there! \nSponsorships:  Supporter $100;  Friend $100;    Leader $500   Change Maker $1\,000;   Benefactor $2\,000;   Crusader $3\,300  \n  \nTo RSVP please call or email John Jennings – contacts listed below
URL:https://loudoungop.com/event/fundraiser-in-support-of-u-s-congressional-candidiate-alex-isaac/
LOCATION:Spanky’s Shenanigans\, 538 E Market St\, Leesburg\, 20176
CATEGORIES:Campaign Event
ATTACH;FMTTYPE=image/png:https://loudoungop.com/wp-content/uploads/2024/05/AlexIsaac.png
ORGANIZER;CN="John Jennings":MAILTO:John@alexisaacforcongress.com
END:VEVENT
BEGIN:VEVENT
DTSTART;TZID=America/New_York:20240419T130000
DTEND;TZID=America/New_York:20240419T200000
DTSTAMP:20260421T003126
CREATED:20230417T002238Z
LAST-MODIFIED:20240417T002405Z
UID:10000152-1713531600-1713556800@loudoungop.com
SUMMARY:Scott Presler at Dulles Gun Show
DESCRIPTION:Come Meet Scott Presler at the Dulles Gun Show this weekend! \nThe Gun show is Friday\, Saturday and Sunday! \nScott Presler will be at the Dulles Expo on Friday from 1PM – 8PM.
URL:https://loudoungop.com/event/scott-presler-at-dulles-gun-show/
LOCATION:Dulles Expo Center\, 4368 Chantilly Ctr\, Chantilly\, VA\, 20153\, United States
CATEGORIES:Campaign Event
ATTACH;FMTTYPE=image/jpeg:https://loudoungop.com/wp-content/uploads/2024/04/Scott_Presler_at_Turning_Point_Action_Conference_2023_cropped.jpg
ORGANIZER;CN="Loudoun GOP":MAILTO:info@loudoungop.com
END:VEVENT
BEGIN:VEVENT
DTSTART;TZID=America/New_York:20231107T193000
DTEND;TZID=America/New_York:20231107T230000
DTSTAMP:20260421T003126
CREATED:20230525T012830Z
LAST-MODIFIED:20231022T134954Z
UID:10000087-1699385400-1699398000@loudoungop.com
SUMMARY:Election Night Party 11-07-2023
DESCRIPTION:  \nBelmont Country Club \nStarts at 7:30PM – 11:00 PM \nHeavy Hors d’oeuvres \nPrice: $10.00 donation \nWatch the returns with the Loudoun County Republican Party. \nExpected attendance 150-200 people.
URL:https://loudoungop.com/event/election-night-party-11-07-2023/
LOCATION:Belmont Country Club\, 19661 Belmont Manor Lane\, Ashburn\, VA\, 20147\, United States
CATEGORIES:Campaign Event,Events,Meeting
ATTACH;FMTTYPE=image/png:https://loudoungop.com/wp-content/uploads/2022/04/LCRC-Logo-Update-2022_1.png
END:VEVENT
BEGIN:VEVENT
DTSTART;TZID=America/New_York:20231106T183000
DTEND;TZID=America/New_York:20231106T193000
DTSTAMP:20260421T003126
CREATED:20231104T025957Z
LAST-MODIFIED:20231104T030452Z
UID:10000133-1699295400-1699299000@loudoungop.com
SUMMARY:Loudoun Get Out The Vote Rally
DESCRIPTION:Loudoun Get Out The Vote Rally\nNovember 6 | 6:30 pm\nSegra Field\, 42095 Loudoun United Dr\, Leesburg\, VA 20175 \nFree Live Music and Food\nSpecial Guests:\nGovernor Glenn Youngkin\nLieutenant Governor Winsome Earle-Sears\nAttorney General Jason Miyares\nJonathan Rogers\, Candidate\, House District 29\nJuan Pablo Segura\, Candidate Senate District 31\nGeary Higgins\, Candidate House District 30 \nREGISTER HERE: https://glennyoungkin.org/event/loudoun-get-out-the-vote-rally
URL:https://loudoungop.com/event/loudoun-get-out-the-vote-rally/
LOCATION:Segra Field\, 42095 Loudoun United Dr\, Leesburg\, VA\, 20175\, United States
CATEGORIES:Campaign Event,Events
ATTACH;FMTTYPE=image/jpeg:https://loudoungop.com/wp-content/uploads/2023/11/youngkin-sears-miyares.jpg
END:VEVENT
BEGIN:VEVENT
DTSTART;TZID=America/New_York:20230811T180000
DTEND;TZID=America/New_York:20230811T200000
DTSTAMP:20260421T003126
CREATED:20230811T114208Z
LAST-MODIFIED:20230811T120503Z
UID:10000129-1691776800-1691784000@loudoungop.com
SUMMARY:MEET AND GREET!
DESCRIPTION:Meet Deana. Ask questions. Share your concerns. \n\nParental Rights\nSchool Safety\nAcademic Excellence\nCommunity Involvement\n\nPlease join us for light refreshments. \nRSVP required for gate access: kablackwell@pm.me or deanaforashburn@gmail.com. \nEnter through Russell Branch Parkway \nAuthorized and paid for by Deana for Ashburn
URL:https://loudoungop.com/event/meet-and-greet/
LOCATION:The Blackwell Home (Belmont Country Club)\, 43634 Dunhill Cup Square\, Ashburn\, VA\, 20147\, United States
CATEGORIES:Campaign Event
ATTACH;FMTTYPE=image/jpeg:https://loudoungop.com/wp-content/uploads/2023/05/deana.jpg
END:VEVENT
BEGIN:VEVENT
DTSTART;TZID=America/New_York:20230725T180000
DTEND;TZID=America/New_York:20230725T210000
DTSTAMP:20260421T003126
CREATED:20230718T153859Z
LAST-MODIFIED:20230724T154810Z
UID:10000122-1690308000-1690318800@loudoungop.com
SUMMARY:Mark Rogers Campaign Kick Off - 29th House of Delegates
DESCRIPTION:Please join Jonathan Mark Rogers in his kick-off event on Tuesday\, July 25th from 6-8pm.\n\nEnjoy passed hors-d’oeuvres and a credit card bar at the beautiful Manor House of Belmont Country Club\, 19661Belmont Manor Lane\, Ashburn\, VA.\n\nA suggested donation of $50 is appreciated\, but not mandatory for entrance.\n\nQuestions? Contact jmarkrogers@icloud.com\n\nTo register go to: https://www.eventbrite.com/e/rogers-campaign-kick-off-tickets-677198758717
URL:https://loudoungop.com/event/mark-rogers-campaign-kick-off-29th-house-of-delegates/
LOCATION:Belmont Country Club\, 19661 Belmont Manor Lane\, Ashburn\, VA\, 20147\, United States
CATEGORIES:Campaign Event,Events
ATTACH;FMTTYPE=image/jpeg:https://loudoungop.com/wp-content/uploads/2023/07/IMG_3040.jpeg
END:VEVENT
BEGIN:VEVENT
DTSTART;TZID=America/New_York:20230723T160000
DTEND;TZID=America/New_York:20230723T180000
DTSTAMP:20260421T003126
CREATED:20230718T162659Z
LAST-MODIFIED:20230718T164639Z
UID:10000123-1690128000-1690135200@loudoungop.com
SUMMARY:Bob Wertz For Loudoun Commissioner of Revenue
DESCRIPTION:Please join Friends of Bob Wertz for a campaign fundraiser at beautiful Murray Hill in Leesburg! Help support Bob’s campaign for re-election for Loudoun County Commissioner of the Revenue. Enjoy an afternoon BBQ and socialize with friends while providing financial resources to share Bob’s message that there’s no substitute for experience in the County’s Top Elected Tax Post! Dress is summer comfortable casual. Please RSVP by FRIDAY\, JULY 21 by completing the fields below. Email events@bobwertz.org with questions. Thank you for your generous support! \nPlease visit link to purchase tickets: \nhttps://secure.winred.com/friends-of-bob-wertz/murrayhill \nEVENT DETAILS: \nSunday\, July 23rd \n4 PM – 6 PM \nMurray Hill \n42910 Edwards Ferry Road NE \nLeesburg VA 20176 \nPlease leave pets at home
URL:https://loudoungop.com/event/bob-wertz-for-loudoun-commissioner-of-revenue/
CATEGORIES:Campaign Event,Donation,Events
ATTACH;FMTTYPE=image/jpeg:https://loudoungop.com/wp-content/uploads/2023/07/IMG_3048.jpeg
END:VEVENT
BEGIN:VEVENT
DTSTART;TZID=America/New_York:20230719T180000
DTEND;TZID=America/New_York:20230719T200000
DTSTAMP:20260421T003126
CREATED:20230717T165740Z
LAST-MODIFIED:20230717T170916Z
UID:10000121-1689789600-1689796800@loudoungop.com
SUMMARY:An Evening With Sheriff Chapman!
DESCRIPTION:Wednesday\, July 19\, 2023\n6:00 PM – 8:00 PM \n$100 per Person or $150 per Couple \nSponsorship Levels \nPlatinum – $5\,000 \nGold – $2\,500 \nSilver – $1\,000 \nBronze – $500 \nClick Below to Register for the Event and Support Mike! \nor make your check payable and send it to: \nFriends of Mike Chapman\nP.O. Box 1144\nLeesburg\, VA 20177 \nor e-mail Mike at\nMichael.Chapman2011@gmail.com\nto reserve your spot!
URL:https://loudoungop.com/event/an-evening-with-sheriff-chapman/
CATEGORIES:Campaign Event
ATTACH;FMTTYPE=image/png:https://loudoungop.com/wp-content/uploads/2023/07/Chapman.png
END:VEVENT
BEGIN:VEVENT
DTSTART;TZID=America/New_York:20230606T180000
DTEND;TZID=America/New_York:20230606T200000
DTSTAMP:20260421T003126
CREATED:20230519T015841Z
LAST-MODIFIED:20230519T015841Z
UID:10000090-1686074400-1686081600@loudoungop.com
SUMMARY:Ram Venkatachalam Fundraiser
DESCRIPTION:
URL:https://loudoungop.com/event/ram-venkatachalam-fundraiser/
LOCATION:The Middleburg Barn\, 23323 Foxchase Farm Ln\, Middleburg\, VA\, 20117\, United States
CATEGORIES:Campaign Event
ATTACH;FMTTYPE=image/jpeg:https://loudoungop.com/wp-content/uploads/2023/05/Ram-Fundraiser-June-6-1.jpg
END:VEVENT
BEGIN:VEVENT
DTSTART;TZID=America/New_York:20230604T160000
DTEND;TZID=America/New_York:20230604T180000
DTSTAMP:20260421T003126
CREATED:20230519T005650Z
LAST-MODIFIED:20230519T005650Z
UID:10000091-1685894400-1685901600@loudoungop.com
SUMMARY:Paul Lott’s campaign for Virginia House District 28!
DESCRIPTION:Virginia Secretary of Education Aimee Guidera is coming to kick off\nPaul Lott’s campaign for Virginia House District 28! \nPaul is running an aggressive campaign to win an important seat in a redrawn district.\nHe needs our help to secure victory for Virginia and hold the line against radical democrats\nwho want to indoctrinate our children with values that run counter\nto the family\, parental rights\, and our sense of community morality. \nJoin Secretary Guidera on\nSunday\, June 4th\, 4-6pm\n42917 Cattail Meadows Pl\nBroadlands \nSee bulletin below for full details.
URL:https://loudoungop.com/event/paul-lotts-campaign-for-virginia-house-district-28/
CATEGORIES:Campaign Event
ATTACH;FMTTYPE=image/jpeg:https://loudoungop.com/wp-content/uploads/2023/05/Lott-Kickoff-Flyer.jpg
END:VEVENT
BEGIN:VEVENT
DTSTART;TZID=America/New_York:20230521T140000
DTEND;TZID=America/New_York:20230521T160000
DTSTAMP:20260421T003126
CREATED:20230519T014818Z
LAST-MODIFIED:20230519T014858Z
UID:10000092-1684677600-1684684800@loudoungop.com
SUMMARY:Deana Griffiths Campaign Kickoff in Ashburn
DESCRIPTION:Deana Griffiths is running to be our Ashburn Representative\nto the School Board! \nWe need to get back to merit-based education\nand policies that keep our children and teachers safe. \nCome and support Deana’s campaign kickoff \nSunday\, May 21st\, 2-4pm\, at\nThe Bungalow Alehouse\, Ashburn! \n \nSee the links below for more details. \nKickoff:  https://www.eventbrite.com/e/deana-griffiths-for-school-board-campaign-kickoff-tickets-629304435507 \nWebsite:  https://www.deana4ashburn.com/
URL:https://loudoungop.com/event/deana-griffiths-campaign-kickoff-in-ashburn/
LOCATION:The Bungalow Alehouse\, 44042 Pipeline Plz\, Ashburn\, VA\, 20147
CATEGORIES:Campaign Event
ATTACH;FMTTYPE=image/jpeg:https://loudoungop.com/wp-content/uploads/2023/05/deana.jpg
END:VEVENT
BEGIN:VEVENT
DTSTART;TZID=America/New_York:20230509T180000
DTEND;TZID=America/New_York:20240509T200000
DTSTAMP:20260421T003126
CREATED:20240429T163021Z
LAST-MODIFIED:20240502T184608Z
UID:10000155-1683655200-1715284800@loudoungop.com
SUMMARY:Reception in Support of Mike Clancy for Congress
DESCRIPTION:You have been invited to attend a special reception to show your support for Mike Clancy’s campaign for the United States House of Representatives (VA-10). The event will feature special guest Ian Prior\, Executive Director of Fight for Schools and author of Parents of the World Unite!.  \nThe reception will be held Thursday May 9th at Social House Kitchen and Tap. We hope to see you there! \nSuggested Contribution: \nTickets:   Single Ticket $20;   Couple’s Ticket $40 \nSponsorships:  Gold $500;  Co-Host $1\,000;    Host $2\,500 \n  \nTo RSVP please call or email Valerie Osborne – contacts listed below
URL:https://loudoungop.com/event/reception-in-support-of-mike-clancy-for-congress/
LOCATION:Social House Kitchen and Tap\, 42841 Creek View Plaza\, Suite 145\, Ashburn\, VA\, 20147\, United States
CATEGORIES:Campaign Event,Events,Fundraising
ATTACH;FMTTYPE=image/jpeg:https://loudoungop.com/wp-content/uploads/2024/04/220126_MC_Websitecopy-15.jpg
ORGANIZER;CN="Valerie Osborne":MAILTO:ValerieOsborne@yahoo.com
END:VEVENT
END:VCALENDAR