BEGIN:VCALENDAR
VERSION:2.0
PRODID:-//Loudoun County Republican Committee - ECPv6.15.20//NONSGML v1.0//EN
CALSCALE:GREGORIAN
METHOD:PUBLISH
X-WR-CALNAME:Loudoun County Republican Committee
X-ORIGINAL-URL:https://loudoungop.com
X-WR-CALDESC:Events for Loudoun County Republican Committee
REFRESH-INTERVAL;VALUE=DURATION:PT1H
X-Robots-Tag:noindex
X-PUBLISHED-TTL:PT1H
BEGIN:VTIMEZONE
TZID:America/New_York
BEGIN:DAYLIGHT
TZOFFSETFROM:-0500
TZOFFSETTO:-0400
TZNAME:EDT
DTSTART:20220313T070000
END:DAYLIGHT
BEGIN:STANDARD
TZOFFSETFROM:-0400
TZOFFSETTO:-0500
TZNAME:EST
DTSTART:20221106T060000
END:STANDARD
BEGIN:DAYLIGHT
TZOFFSETFROM:-0500
TZOFFSETTO:-0400
TZNAME:EDT
DTSTART:20230312T070000
END:DAYLIGHT
BEGIN:STANDARD
TZOFFSETFROM:-0400
TZOFFSETTO:-0500
TZNAME:EST
DTSTART:20231105T060000
END:STANDARD
BEGIN:DAYLIGHT
TZOFFSETFROM:-0500
TZOFFSETTO:-0400
TZNAME:EDT
DTSTART:20240310T070000
END:DAYLIGHT
BEGIN:STANDARD
TZOFFSETFROM:-0400
TZOFFSETTO:-0500
TZNAME:EST
DTSTART:20241103T060000
END:STANDARD
END:VTIMEZONE
BEGIN:VEVENT
DTSTART;TZID=America/New_York:20230723T160000
DTEND;TZID=America/New_York:20230723T180000
DTSTAMP:20260423T184214
CREATED:20230718T162659Z
LAST-MODIFIED:20230718T164639Z
UID:10000123-1690128000-1690135200@loudoungop.com
SUMMARY:Bob Wertz For Loudoun Commissioner of Revenue
DESCRIPTION:Please join Friends of Bob Wertz for a campaign fundraiser at beautiful Murray Hill in Leesburg! Help support Bob’s campaign for re-election for Loudoun County Commissioner of the Revenue. Enjoy an afternoon BBQ and socialize with friends while providing financial resources to share Bob’s message that there’s no substitute for experience in the County’s Top Elected Tax Post! Dress is summer comfortable casual. Please RSVP by FRIDAY\, JULY 21 by completing the fields below. Email events@bobwertz.org with questions. Thank you for your generous support! \nPlease visit link to purchase tickets: \nhttps://secure.winred.com/friends-of-bob-wertz/murrayhill \nEVENT DETAILS: \nSunday\, July 23rd \n4 PM – 6 PM \nMurray Hill \n42910 Edwards Ferry Road NE \nLeesburg VA 20176 \nPlease leave pets at home
URL:https://loudoungop.com/event/bob-wertz-for-loudoun-commissioner-of-revenue/
CATEGORIES:Campaign Event,Donation,Events
ATTACH;FMTTYPE=image/jpeg:https://loudoungop.com/wp-content/uploads/2023/07/IMG_3048.jpeg
END:VEVENT
END:VCALENDAR