BEGIN:VCALENDAR
VERSION:2.0
PRODID:-//Loudoun County Republican Committee - ECPv6.15.20//NONSGML v1.0//EN
CALSCALE:GREGORIAN
METHOD:PUBLISH
X-WR-CALNAME:Loudoun County Republican Committee
X-ORIGINAL-URL:https://loudoungop.com
X-WR-CALDESC:Events for Loudoun County Republican Committee
REFRESH-INTERVAL;VALUE=DURATION:PT1H
X-Robots-Tag:noindex
X-PUBLISHED-TTL:PT1H
BEGIN:VTIMEZONE
TZID:America/New_York
BEGIN:DAYLIGHT
TZOFFSETFROM:-0500
TZOFFSETTO:-0400
TZNAME:EDT
DTSTART:20210314T070000
END:DAYLIGHT
BEGIN:STANDARD
TZOFFSETFROM:-0400
TZOFFSETTO:-0500
TZNAME:EST
DTSTART:20211107T060000
END:STANDARD
BEGIN:DAYLIGHT
TZOFFSETFROM:-0500
TZOFFSETTO:-0400
TZNAME:EDT
DTSTART:20220313T070000
END:DAYLIGHT
BEGIN:STANDARD
TZOFFSETFROM:-0400
TZOFFSETTO:-0500
TZNAME:EST
DTSTART:20221106T060000
END:STANDARD
BEGIN:DAYLIGHT
TZOFFSETFROM:-0500
TZOFFSETTO:-0400
TZNAME:EDT
DTSTART:20230312T070000
END:DAYLIGHT
BEGIN:STANDARD
TZOFFSETFROM:-0400
TZOFFSETTO:-0500
TZNAME:EST
DTSTART:20231105T060000
END:STANDARD
BEGIN:DAYLIGHT
TZOFFSETFROM:-0500
TZOFFSETTO:-0400
TZNAME:EDT
DTSTART:20240310T070000
END:DAYLIGHT
BEGIN:STANDARD
TZOFFSETFROM:-0400
TZOFFSETTO:-0500
TZNAME:EST
DTSTART:20241103T060000
END:STANDARD
END:VTIMEZONE
BEGIN:VEVENT
DTSTART;TZID=America/New_York:20230227T190000
DTEND;TZID=America/New_York:20230227T210000
DTSTAMP:20260422T192633
CREATED:20221012T012830Z
LAST-MODIFIED:20230214T194753Z
UID:10000108-1677524400-1677531600@loudoungop.com
SUMMARY:Membership Meeting 02/27/2023
DESCRIPTION:Friday\, June 07\, 2024\, 6:00-9:00pm Historic Bush Tabernacle\,250 South Nursery Ave.\, Purcellville\, VA Ticket Includes Admission & BBQ Dinner! Also enjoy: Live MusicCornholeKid GamesCandidate TablesStraw PollCaricature ArtistsCash BarWines\, Brews & non-alcoholic drinks available for purchase. Musical GuestDuffy & Ro Meet Candidates for the US Senate andHouse of RepresentativesLIMITED TICKETS WILL BE SOLD AT THE DOOR.
URL:https://loudoungop.com/event/membership-meeting-02-27-2023/
LOCATION:Cascades Overlook Event Center\, 21453 Epicerie Plaza\, Sterling\, VA\, 20164\, United States
CATEGORIES:Meeting
ATTACH;FMTTYPE=image/png:https://loudoungop.com/wp-content/uploads/2022/04/LCRC-Logo-Update-2022_1.png
ORGANIZER;CN="Loudoun GOP":MAILTO:info@loudoungop.com
END:VEVENT
BEGIN:VEVENT
DTSTART;TZID=America/New_York:20230123T190000
DTEND;TZID=America/New_York:20230123T210000
DTSTAMP:20260422T192634
CREATED:20221012T012830Z
LAST-MODIFIED:20230103T215951Z
UID:10000107-1674500400-1674507600@loudoungop.com
SUMMARY:Membership Meeting 01/23/2023
DESCRIPTION:Friday\, June 07\, 2024\, 6:00-9:00pm Historic Bush Tabernacle\,250 South Nursery Ave.\, Purcellville\, VA Ticket Includes Admission & BBQ Dinner! Also enjoy: Live MusicCornholeKid GamesCandidate TablesStraw PollCaricature ArtistsCash BarWines\, Brews & non-alcoholic drinks available for purchase. Musical GuestDuffy & Ro Meet Candidates for the US Senate andHouse of RepresentativesLIMITED TICKETS WILL BE SOLD AT THE DOOR.
URL:https://loudoungop.com/event/membership-meeting-01-23-2023/
LOCATION:Cascades Overlook Event Center\, 21453 Epicerie Plaza\, Sterling\, VA\, 20164\, United States
CATEGORIES:Meeting
ATTACH;FMTTYPE=image/png:https://loudoungop.com/wp-content/uploads/2022/04/LCRC-Logo-Update-2022_1.png
END:VEVENT
BEGIN:VEVENT
DTSTART;TZID=America/New_York:20221128T190000
DTEND;TZID=America/New_York:20221128T210000
DTSTAMP:20260422T192634
CREATED:20211128T173859Z
LAST-MODIFIED:20220911T023618Z
UID:10000098-1669662000-1669669200@loudoungop.com
SUMMARY:Membership Meeting 11/28/2022
DESCRIPTION:Friday\, June 07\, 2024\, 6:00-9:00pm Historic Bush Tabernacle\,250 South Nursery Ave.\, Purcellville\, VA Ticket Includes Admission & BBQ Dinner! Also enjoy: Live MusicCornholeKid GamesCandidate TablesStraw PollCaricature ArtistsCash BarWines\, Brews & non-alcoholic drinks available for purchase. Musical GuestDuffy & Ro Meet Candidates for the US Senate andHouse of RepresentativesLIMITED TICKETS WILL BE SOLD AT THE DOOR.
URL:https://loudoungop.com/event/membership-meeting-11-28-2022/
LOCATION:Cascades Overlook Event Center\, 21453 Epicerie Plaza\, Sterling\, VA\, 20164\, United States
CATEGORIES:Meeting
ATTACH;FMTTYPE=image/png:https://loudoungop.com/wp-content/uploads/2022/04/LCRC-Logo-Update-2022_1.png
ORGANIZER;CN="Loudoun GOP":MAILTO:info@loudoungop.com
END:VEVENT
BEGIN:VEVENT
DTSTART;TZID=America/New_York:20221024T190000
DTEND;TZID=America/New_York:20221024T210000
DTSTAMP:20260422T192634
CREATED:20211024T164739Z
LAST-MODIFIED:20220911T023610Z
UID:10000097-1666638000-1666645200@loudoungop.com
SUMMARY:Membership Meeting 10/24/2022
DESCRIPTION:Friday\, June 07\, 2024\, 6:00-9:00pm Historic Bush Tabernacle\,250 South Nursery Ave.\, Purcellville\, VA Ticket Includes Admission & BBQ Dinner! Also enjoy: Live MusicCornholeKid GamesCandidate TablesStraw PollCaricature ArtistsCash BarWines\, Brews & non-alcoholic drinks available for purchase. Musical GuestDuffy & Ro Meet Candidates for the US Senate andHouse of RepresentativesLIMITED TICKETS WILL BE SOLD AT THE DOOR.
URL:https://loudoungop.com/event/membership-meeting-10-24-2022/
LOCATION:Cascades Overlook Event Center\, 21453 Epicerie Plaza\, Sterling\, VA\, 20164\, United States
CATEGORIES:Meeting
ATTACH;FMTTYPE=image/png:https://loudoungop.com/wp-content/uploads/2022/04/LCRC-Logo-Update-2022_1.png
END:VEVENT
BEGIN:VEVENT
DTSTART;TZID=America/New_York:20221012T183000
DTEND;TZID=America/New_York:20221012T210000
DTSTAMP:20260422T192634
CREATED:20221006T045533Z
LAST-MODIFIED:20221006T050320Z
UID:10000106-1665599400-1665608400@loudoungop.com
SUMMARY:Leesburg Mayor & Town Council Candidate Forum
DESCRIPTION:Friday\, June 07\, 2024\, 6:00-9:00pm Historic Bush Tabernacle\,250 South Nursery Ave.\, Purcellville\, VA Ticket Includes Admission & BBQ Dinner! Also enjoy: Live MusicCornholeKid GamesCandidate TablesStraw PollCaricature ArtistsCash BarWines\, Brews & non-alcoholic drinks available for purchase. Musical GuestDuffy & Ro Meet Candidates for the US Senate andHouse of RepresentativesLIMITED TICKETS WILL BE SOLD AT THE DOOR.
URL:https://loudoungop.com/event/leesburg-mayor-town-council-candidate-forum/
LOCATION:Senior Center of Leesburg\, 102 North Street NW\, Leesburg\, VA\, 20176\, United States
CATEGORIES:Debate
END:VEVENT
BEGIN:VEVENT
DTSTART;TZID=America/New_York:20221008T180000
DTEND;TZID=America/New_York:20221008T210000
DTSTAMP:20260422T192634
CREATED:20211021T234937Z
LAST-MODIFIED:20221004T170051Z
UID:10000096-1665252000-1665262800@loudoungop.com
SUMMARY:Fall Into Freedom Social
DESCRIPTION:Friday\, June 07\, 2024\, 6:00-9:00pm Historic Bush Tabernacle\,250 South Nursery Ave.\, Purcellville\, VA Ticket Includes Admission & BBQ Dinner! Also enjoy: Live MusicCornholeKid GamesCandidate TablesStraw PollCaricature ArtistsCash BarWines\, Brews & non-alcoholic drinks available for purchase. Musical GuestDuffy & Ro Meet Candidates for the US Senate andHouse of RepresentativesLIMITED TICKETS WILL BE SOLD AT THE DOOR.
URL:https://loudoungop.com/event/fall-into-freedom-2022/
LOCATION:Rokeby House\, 19669 Gleedsville Road\, Leesburg\, 20175\, United States
CATEGORIES:Fundraising
ATTACH;FMTTYPE=image/png:https://loudoungop.com/wp-content/uploads/2021/10/title.png
END:VEVENT
BEGIN:VEVENT
DTSTART;TZID=America/New_York:20220926T173000
DTEND;TZID=America/New_York:20220926T210000
DTSTAMP:20260422T192634
CREATED:20210918T163859Z
LAST-MODIFIED:20220911T023607Z
UID:10000095-1664213400-1664226000@loudoungop.com
SUMMARY:Membership Meeting 9/26/2022
DESCRIPTION:Friday\, June 07\, 2024\, 6:00-9:00pm Historic Bush Tabernacle\,250 South Nursery Ave.\, Purcellville\, VA Ticket Includes Admission & BBQ Dinner! Also enjoy: Live MusicCornholeKid GamesCandidate TablesStraw PollCaricature ArtistsCash BarWines\, Brews & non-alcoholic drinks available for purchase. Musical GuestDuffy & Ro Meet Candidates for the US Senate andHouse of RepresentativesLIMITED TICKETS WILL BE SOLD AT THE DOOR.
URL:https://loudoungop.com/event/membership-meeting-9-26-2022/
LOCATION:Cascades Overlook Event Center\, 21453 Epicerie Plaza\, Sterling\, VA\, 20164\, United States
CATEGORIES:Meeting
ATTACH;FMTTYPE=image/png:https://loudoungop.com/wp-content/uploads/2022/04/LCRC-Logo-Update-2022_1.png
ORGANIZER;CN="Loudoun GOP":MAILTO:info@loudoungop.com
END:VEVENT
BEGIN:VEVENT
DTSTART;TZID=America/New_York:20220822T190000
DTEND;TZID=America/New_York:20220822T210000
DTSTAMP:20260422T192634
CREATED:20220527T190512Z
LAST-MODIFIED:20220816T221918Z
UID:10000104-1661194800-1661202000@loudoungop.com
SUMMARY:Membership Meeting 8/22/2022
DESCRIPTION:Friday\, June 07\, 2024\, 6:00-9:00pm Historic Bush Tabernacle\,250 South Nursery Ave.\, Purcellville\, VA Ticket Includes Admission & BBQ Dinner! Also enjoy: Live MusicCornholeKid GamesCandidate TablesStraw PollCaricature ArtistsCash BarWines\, Brews & non-alcoholic drinks available for purchase. Musical GuestDuffy & Ro Meet Candidates for the US Senate andHouse of RepresentativesLIMITED TICKETS WILL BE SOLD AT THE DOOR.
URL:https://loudoungop.com/event/membership-meeting-8-22-2022/
LOCATION:Cascades Overlook Event Center\, 21453 Epicerie Plaza\, Sterling\, VA\, 20164\, United States
CATEGORIES:Meeting
ATTACH;FMTTYPE=image/png:https://loudoungop.com/wp-content/uploads/2022/04/LCRC-Logo-Update-2022_1.png
ORGANIZER;CN="Loudoun County Republican Committee":MAILTO:info@loudoungop.com
END:VEVENT
BEGIN:VEVENT
DTSTART;TZID=America/New_York:20220725T153000
DTEND;TZID=America/New_York:20220725T173000
DTSTAMP:20260422T192634
CREATED:20220427T093353Z
LAST-MODIFIED:20220818T163242Z
UID:10000101-1658763000-1658770200@loudoungop.com
SUMMARY:Membership Meeting 7/25/2022
DESCRIPTION:Friday\, June 07\, 2024\, 6:00-9:00pm Historic Bush Tabernacle\,250 South Nursery Ave.\, Purcellville\, VA Ticket Includes Admission & BBQ Dinner! Also enjoy: Live MusicCornholeKid GamesCandidate TablesStraw PollCaricature ArtistsCash BarWines\, Brews & non-alcoholic drinks available for purchase. Musical GuestDuffy & Ro Meet Candidates for the US Senate andHouse of RepresentativesLIMITED TICKETS WILL BE SOLD AT THE DOOR.
URL:https://loudoungop.com/event/lcrc-membership-meeting-july-2022/
LOCATION:Cascades Overlook Event Center\, 21453 Epicerie Plaza\, Sterling\, VA\, 20164\, United States
CATEGORIES:Meeting
ATTACH;FMTTYPE=image/png:https://loudoungop.com/wp-content/uploads/2022/04/LCRC-Logo-Update-2022_1.png
ORGANIZER;CN="Loudoun County Republican Committee":MAILTO:info@loudoungop.com
END:VEVENT
BEGIN:VEVENT
DTSTART;TZID=America/New_York:20220718T070000
DTEND;TZID=America/New_York:20220718T140000
DTSTAMP:20260422T192634
CREATED:20220703T042939Z
LAST-MODIFIED:20220703T043812Z
UID:10000105-1658127600-1658152800@loudoungop.com
SUMMARY:2nd Annual Loudoun Freedom Golf Outing and Banquet
DESCRIPTION:Friday\, June 07\, 2024\, 6:00-9:00pm Historic Bush Tabernacle\,250 South Nursery Ave.\, Purcellville\, VA Ticket Includes Admission & BBQ Dinner! Also enjoy: Live MusicCornholeKid GamesCandidate TablesStraw PollCaricature ArtistsCash BarWines\, Brews & non-alcoholic drinks available for purchase. Musical GuestDuffy & Ro Meet Candidates for the US Senate andHouse of RepresentativesLIMITED TICKETS WILL BE SOLD AT THE DOOR.
URL:https://loudoungop.com/event/2nd-annual-loudoun-freedom-golf-outing-and-banquet/
LOCATION:Belmont Country Club\, 19661 Belmont Manor Lane\, Ashburn\, VA\, 20147\, United States
CATEGORIES:Fundraising
ATTACH;FMTTYPE=image/png:https://loudoungop.com/wp-content/uploads/2022/07/Capture11.png
END:VEVENT
BEGIN:VEVENT
DTSTART;TZID=America/New_York:20220627T153000
DTEND;TZID=America/New_York:20220627T170000
DTSTAMP:20260422T192634
CREATED:20220527T183342Z
LAST-MODIFIED:20220818T163303Z
UID:10000103-1656343800-1656349200@loudoungop.com
SUMMARY:Membership Meeting 6/27/2022
DESCRIPTION:Friday\, June 07\, 2024\, 6:00-9:00pm Historic Bush Tabernacle\,250 South Nursery Ave.\, Purcellville\, VA Ticket Includes Admission & BBQ Dinner! Also enjoy: Live MusicCornholeKid GamesCandidate TablesStraw PollCaricature ArtistsCash BarWines\, Brews & non-alcoholic drinks available for purchase. Musical GuestDuffy & Ro Meet Candidates for the US Senate andHouse of RepresentativesLIMITED TICKETS WILL BE SOLD AT THE DOOR.
URL:https://loudoungop.com/event/membership-meeting-june-2022/
LOCATION:Cascades Overlook Event Center\, 21453 Epicerie Plaza\, Sterling\, VA\, 20164\, United States
CATEGORIES:Meeting
ATTACH;FMTTYPE=image/png:https://loudoungop.com/wp-content/uploads/2022/04/LCRC-Logo-Update-2022_1.png
ORGANIZER;CN="Loudoun County Republican Committee":MAILTO:info@loudoungop.com
END:VEVENT
BEGIN:VEVENT
DTSTART;TZID=America/New_York:20220624T143000
DTEND;TZID=America/New_York:20220624T170000
DTSTAMP:20260422T192634
CREATED:20220527T171215Z
LAST-MODIFIED:20220531T232615Z
UID:10000102-1656081000-1656090000@loudoungop.com
SUMMARY:Summer Jamboree
DESCRIPTION:Friday\, June 07\, 2024\, 6:00-9:00pm Historic Bush Tabernacle\,250 South Nursery Ave.\, Purcellville\, VA Ticket Includes Admission & BBQ Dinner! Also enjoy: Live MusicCornholeKid GamesCandidate TablesStraw PollCaricature ArtistsCash BarWines\, Brews & non-alcoholic drinks available for purchase. Musical GuestDuffy & Ro Meet Candidates for the US Senate andHouse of RepresentativesLIMITED TICKETS WILL BE SOLD AT THE DOOR.
URL:https://loudoungop.com/event/summer-jamboree/
LOCATION:VA
CATEGORIES:Fundraising
ATTACH;FMTTYPE=image/png:https://loudoungop.com/wp-content/uploads/2022/05/LCRC-Jamboree-2022_2-Facebook-Event-Cover-Instagram-Post.png
ORGANIZER;CN="Loudoun County Republican Committee":MAILTO:info@loudoungop.com
END:VEVENT
BEGIN:VEVENT
DTSTART;TZID=America/New_York:20220523T153000
DTEND;TZID=America/New_York:20220523T173000
DTSTAMP:20260422T192634
CREATED:20220427T092635Z
LAST-MODIFIED:20220514T212421Z
UID:10000100-1653319800-1653327000@loudoungop.com
SUMMARY:LCRC Membership Meeting MAY 2022
DESCRIPTION:Friday\, June 07\, 2024\, 6:00-9:00pm Historic Bush Tabernacle\,250 South Nursery Ave.\, Purcellville\, VA Ticket Includes Admission & BBQ Dinner! Also enjoy: Live MusicCornholeKid GamesCandidate TablesStraw PollCaricature ArtistsCash BarWines\, Brews & non-alcoholic drinks available for purchase. Musical GuestDuffy & Ro Meet Candidates for the US Senate andHouse of RepresentativesLIMITED TICKETS WILL BE SOLD AT THE DOOR.
URL:https://loudoungop.com/event/lcrc-membership-meeting/
LOCATION:Cascades Overlook Event Center\, 21453 Epicerie Plaza\, Sterling\, VA\, 20164\, United States
CATEGORIES:Meeting
ATTACH;FMTTYPE=image/png:https://loudoungop.com/wp-content/uploads/2022/04/LCRC-Logo-Update-2022_1.png
ORGANIZER;CN="Loudoun GOP":MAILTO:info@loudoungop.com
END:VEVENT
END:VCALENDAR