BEGIN:VCALENDAR
VERSION:2.0
PRODID:-//Loudoun County Republican Committee - ECPv6.15.20//NONSGML v1.0//EN
CALSCALE:GREGORIAN
METHOD:PUBLISH
X-ORIGINAL-URL:https://loudoungop.com
X-WR-CALDESC:Events for Loudoun County Republican Committee
REFRESH-INTERVAL;VALUE=DURATION:PT1H
X-Robots-Tag:noindex
X-PUBLISHED-TTL:PT1H
BEGIN:VTIMEZONE
TZID:America/New_York
BEGIN:DAYLIGHT
TZOFFSETFROM:-0500
TZOFFSETTO:-0400
TZNAME:EDT
DTSTART:20220313T070000
END:DAYLIGHT
BEGIN:STANDARD
TZOFFSETFROM:-0400
TZOFFSETTO:-0500
TZNAME:EST
DTSTART:20221106T060000
END:STANDARD
BEGIN:DAYLIGHT
TZOFFSETFROM:-0500
TZOFFSETTO:-0400
TZNAME:EDT
DTSTART:20230312T070000
END:DAYLIGHT
BEGIN:STANDARD
TZOFFSETFROM:-0400
TZOFFSETTO:-0500
TZNAME:EST
DTSTART:20231105T060000
END:STANDARD
BEGIN:DAYLIGHT
TZOFFSETFROM:-0500
TZOFFSETTO:-0400
TZNAME:EDT
DTSTART:20240310T070000
END:DAYLIGHT
BEGIN:STANDARD
TZOFFSETFROM:-0400
TZOFFSETTO:-0500
TZNAME:EST
DTSTART:20241103T060000
END:STANDARD
BEGIN:DAYLIGHT
TZOFFSETFROM:-0500
TZOFFSETTO:-0400
TZNAME:EDT
DTSTART:20250309T070000
END:DAYLIGHT
BEGIN:STANDARD
TZOFFSETFROM:-0400
TZOFFSETTO:-0500
TZNAME:EST
DTSTART:20251102T060000
END:STANDARD
END:VTIMEZONE
BEGIN:VEVENT
DTSTART;TZID=America/New_York:20230509T180000
DTEND;TZID=America/New_York:20240509T200000
DTSTAMP:20260423T024955
CREATED:20240429T163021Z
LAST-MODIFIED:20240502T184608Z
UID:10000155-1683655200-1715284800@loudoungop.com
SUMMARY:Reception in Support of Mike Clancy for Congress
DESCRIPTION:You have been invited to attend a special reception to show your support for Mike Clancy’s campaign for the United States House of Representatives (VA-10). The event will feature special guest Ian Prior\, Executive Director of Fight for Schools and author of Parents of the World Unite!.  \nThe reception will be held Thursday May 9th at Social House Kitchen and Tap. We hope to see you there! \nSuggested Contribution: \nTickets:   Single Ticket $20;   Couple’s Ticket $40 \nSponsorships:  Gold $500;  Co-Host $1\,000;    Host $2\,500 \n  \nTo RSVP please call or email Valerie Osborne – contacts listed below
URL:https://loudoungop.com/event/reception-in-support-of-mike-clancy-for-congress/
LOCATION:Social House Kitchen and Tap\, 42841 Creek View Plaza\, Suite 145\, Ashburn\, VA\, 20147\, United States
CATEGORIES:Campaign Event,Events,Fundraising
ATTACH;FMTTYPE=image/jpeg:https://loudoungop.com/wp-content/uploads/2024/04/220126_MC_Websitecopy-15.jpg
ORGANIZER;CN="Valerie Osborne":MAILTO:ValerieOsborne@yahoo.com
END:VEVENT
BEGIN:VEVENT
DTSTART;TZID=America/New_York:20230521T183000
DTEND;TZID=America/New_York:20240521T203000
DTSTAMP:20260423T024955
CREATED:20240429T155128Z
LAST-MODIFIED:20240502T190821Z
UID:10000154-1684693800-1716323400@loudoungop.com
SUMMARY:"Bidenomics is Bad Economics" Event
DESCRIPTION:  \nAmericans for Prosperity is hosting a “Bidenomics is Bad Economics” Event at the Parallel Wine and Whiskey Bar in Broadlands\, VA. We encourage you to attend! \n  \nRSVP: https://americansforprosperity.actcentr.com/Events/afp-va-bidenomics-is-bad-economics-loudoun
URL:https://loudoungop.com/event/bidenomics-is-bad-economics-event/
LOCATION:Parallel Wine and Whiskey Bar\, 43135 Broadlands Center Plaza #121\, Broadlands\, VA\, 20148\, United States
CATEGORIES:Education,Events
ATTACH;FMTTYPE=image/jpeg:https://loudoungop.com/wp-content/uploads/2024/04/dummy-dollar-scaled-1600xauto@2x.jpg
END:VEVENT
BEGIN:VEVENT
DTSTART;TZID=America/New_York:20230811T180000
DTEND;TZID=America/New_York:20230811T200000
DTSTAMP:20260423T024955
CREATED:20230811T114208Z
LAST-MODIFIED:20230811T120503Z
UID:10000129-1691776800-1691784000@loudoungop.com
SUMMARY:MEET AND GREET!
DESCRIPTION:Meet Deana. Ask questions. Share your concerns. \n\nParental Rights\nSchool Safety\nAcademic Excellence\nCommunity Involvement\n\nPlease join us for light refreshments. \nRSVP required for gate access: kablackwell@pm.me or deanaforashburn@gmail.com. \nEnter through Russell Branch Parkway \nAuthorized and paid for by Deana for Ashburn
URL:https://loudoungop.com/event/meet-and-greet/
LOCATION:The Blackwell Home (Belmont Country Club)\, 43634 Dunhill Cup Square\, Ashburn\, VA\, 20147\, United States
CATEGORIES:Campaign Event
ATTACH;FMTTYPE=image/jpeg:https://loudoungop.com/wp-content/uploads/2023/05/deana.jpg
END:VEVENT
BEGIN:VEVENT
DTSTART;TZID=America/New_York:20230815T180000
DTEND;TZID=America/New_York:20230815T200000
DTSTAMP:20260423T024955
CREATED:20230808T222556Z
LAST-MODIFIED:20230810T170256Z
UID:10000128-1692122400-1692129600@loudoungop.com
SUMMARY:Meet and Greet with Loudoun County’s and Virginia Best 2023 Candidates!
DESCRIPTION:Meet and Greet with Loudoun County’s and Virginia Best 2023 Candidates! \nCome meet : \nJuan Pablo Segura\, \n Chris Harnisch\,  \nDebbie Rose\,  \nViktoria Hunyadi!  \nFood and Drinks provided. \nTUESDAY AUGUST 15th \n6:00 – 8:00 PM \nAt the Home of Debbie Rose \n47567 Major Beckham Way \nSterling\, VA 20165 \nRVSP: https://bit.ly/44Qghgn \n 
URL:https://loudoungop.com/event/meet-and-greet-with-loudoun-countys-and-virginia-best-2023-candidates/
LOCATION:47567 Major Beckham Way\, 47567 Major Beckham Way\, Sterling\, VA\, 20165\, United States
ATTACH;FMTTYPE=image/jpeg:https://loudoungop.com/wp-content/uploads/2023/08/IMG_7017-1.jpeg
END:VEVENT
BEGIN:VEVENT
DTSTART;TZID=America/New_York:20230817T183000
DTEND;TZID=America/New_York:20230817T203000
DTSTAMP:20260423T024955
CREATED:20230808T150509Z
LAST-MODIFIED:20230808T150509Z
UID:10000127-1692297000-1692304200@loudoungop.com
SUMMARY:Campaign Kickoff for Stephen Karbelk\, Chair At Large
DESCRIPTION:We have some exciting news!  \n\nWe are thrilled to invite you and your family to join us at our Official Team Karbelk Campaign Kickoff event taking place on Thursday\, August 17th in Leesburg at the Fleetwood Farm Winery from 6:30 P.M.- 8:30 P.M:  \n  \nFleetwood Farm Winery  \n23075 Evergreen Mills Road  \nLeesburg\, Virginia 20175 \n  \nStephen is passionate about bringing commonsense back to Loudoun County. This event will provide an opportunity to learn more about Stephen’s vision for the future and how he plans to make a positive impact.  \n  \nYour presence and support is important to us\, and we believe that together\, we can bring about the change Loudoun County so desperately deserves.\n\n\n\n\n\n\nRSVP TO OFFICIAL CAMPAIGN KICKOFF EVENT\n\n\n\n\n\n\n\n\n\nWe look forward to seeing you on August 17th in Leesburg! \n  \n-Team Karbelk
URL:https://loudoungop.com/event/campaign-kickoff-for-stephen-karbelk-chair-at-large/
LOCATION:Location Fleetwood Farm Winery 23075 Evergreen Mills Road Leesburg\, VA 20175\, 23075 Evergreen Mills Road\, Leesburg\, VA\, 20175\, United States
ATTACH;FMTTYPE=image/jpeg:https://loudoungop.com/wp-content/uploads/2023/08/IMG_6881.jpeg
END:VEVENT
BEGIN:VEVENT
DTSTART;TZID=America/New_York:20230828T190000
DTEND;TZID=America/New_York:20230828T210000
DTSTAMP:20260423T024955
CREATED:20230525T012830Z
LAST-MODIFIED:20230826T192311Z
UID:10000083-1693249200-1693256400@loudoungop.com
SUMMARY:Membership Meeting 08/28/2023
DESCRIPTION:Business Meeting – Official meeting for LCRCMonday\, August 28th\, 2023\, at 7:00 p.m.Lansdowne Resort & Spa44050 Woodridge Pkwy\, Leesburg\, VA 20176 ·Starts Promptly at 7PM.  Please come 10-15 minutes early for a seat. \nSocial Hour Coton Rye RestaurantMonday\, August 28th\, 2023\, at 5:30 p.m.Lansdowne Resort & Spa44050 Woodridge Pkwy\, Leesburg\, VA 20176 ·
URL:https://loudoungop.com/event/membership-meeting-08-28-2023/
LOCATION:Lansdowne Resort & Span\, 44050 Woodridge Pkwy\, Leesburg\, VA\, 20176\, United States
CATEGORIES:Events,Meeting
ATTACH;FMTTYPE=image/png:https://loudoungop.com/wp-content/uploads/2022/04/LCRC-Logo-Update-2022_1.png
ORGANIZER;CN="Loudoun GOP":MAILTO:info@loudoungop.com
END:VEVENT
END:VCALENDAR