BEGIN:VCALENDAR
VERSION:2.0
PRODID:-//Loudoun County Republican Committee - ECPv6.15.20//NONSGML v1.0//EN
CALSCALE:GREGORIAN
METHOD:PUBLISH
X-WR-CALNAME:Loudoun County Republican Committee
X-ORIGINAL-URL:https://loudoungop.com
X-WR-CALDESC:Events for Loudoun County Republican Committee
REFRESH-INTERVAL;VALUE=DURATION:PT1H
X-Robots-Tag:noindex
X-PUBLISHED-TTL:PT1H
BEGIN:VTIMEZONE
TZID:America/New_York
BEGIN:DAYLIGHT
TZOFFSETFROM:-0500
TZOFFSETTO:-0400
TZNAME:EDT
DTSTART:20220313T070000
END:DAYLIGHT
BEGIN:STANDARD
TZOFFSETFROM:-0400
TZOFFSETTO:-0500
TZNAME:EST
DTSTART:20221106T060000
END:STANDARD
BEGIN:DAYLIGHT
TZOFFSETFROM:-0500
TZOFFSETTO:-0400
TZNAME:EDT
DTSTART:20230312T070000
END:DAYLIGHT
BEGIN:STANDARD
TZOFFSETFROM:-0400
TZOFFSETTO:-0500
TZNAME:EST
DTSTART:20231105T060000
END:STANDARD
BEGIN:DAYLIGHT
TZOFFSETFROM:-0500
TZOFFSETTO:-0400
TZNAME:EDT
DTSTART:20240310T070000
END:DAYLIGHT
BEGIN:STANDARD
TZOFFSETFROM:-0400
TZOFFSETTO:-0500
TZNAME:EST
DTSTART:20241103T060000
END:STANDARD
BEGIN:DAYLIGHT
TZOFFSETFROM:-0500
TZOFFSETTO:-0400
TZNAME:EDT
DTSTART:20250309T070000
END:DAYLIGHT
BEGIN:STANDARD
TZOFFSETFROM:-0400
TZOFFSETTO:-0500
TZNAME:EST
DTSTART:20251102T060000
END:STANDARD
END:VTIMEZONE
BEGIN:VEVENT
DTSTART;TZID=America/New_York:20230509T180000
DTEND;TZID=America/New_York:20240509T200000
DTSTAMP:20260423T040423
CREATED:20240429T163021Z
LAST-MODIFIED:20240502T184608Z
UID:10000155-1683655200-1715284800@loudoungop.com
SUMMARY:Reception in Support of Mike Clancy for Congress
DESCRIPTION:You have been invited to attend a special reception to show your support for Mike Clancy’s campaign for the United States House of Representatives (VA-10). The event will feature special guest Ian Prior\, Executive Director of Fight for Schools and author of Parents of the World Unite!.  \nThe reception will be held Thursday May 9th at Social House Kitchen and Tap. We hope to see you there! \nSuggested Contribution: \nTickets:   Single Ticket $20;   Couple’s Ticket $40 \nSponsorships:  Gold $500;  Co-Host $1\,000;    Host $2\,500 \n  \nTo RSVP please call or email Valerie Osborne – contacts listed below
URL:https://loudoungop.com/event/reception-in-support-of-mike-clancy-for-congress/
LOCATION:Social House Kitchen and Tap\, 42841 Creek View Plaza\, Suite 145\, Ashburn\, VA\, 20147\, United States
CATEGORIES:Campaign Event,Events,Fundraising
ATTACH;FMTTYPE=image/jpeg:https://loudoungop.com/wp-content/uploads/2024/04/220126_MC_Websitecopy-15.jpg
ORGANIZER;CN="Valerie Osborne":MAILTO:ValerieOsborne@yahoo.com
END:VEVENT
BEGIN:VEVENT
DTSTART;TZID=America/New_York:20230521T183000
DTEND;TZID=America/New_York:20240521T203000
DTSTAMP:20260423T040423
CREATED:20240429T155128Z
LAST-MODIFIED:20240502T190821Z
UID:10000154-1684693800-1716323400@loudoungop.com
SUMMARY:"Bidenomics is Bad Economics" Event
DESCRIPTION:  \nAmericans for Prosperity is hosting a “Bidenomics is Bad Economics” Event at the Parallel Wine and Whiskey Bar in Broadlands\, VA. We encourage you to attend! \n  \nRSVP: https://americansforprosperity.actcentr.com/Events/afp-va-bidenomics-is-bad-economics-loudoun
URL:https://loudoungop.com/event/bidenomics-is-bad-economics-event/
LOCATION:Parallel Wine and Whiskey Bar\, 43135 Broadlands Center Plaza #121\, Broadlands\, VA\, 20148\, United States
CATEGORIES:Education,Events
ATTACH;FMTTYPE=image/jpeg:https://loudoungop.com/wp-content/uploads/2024/04/dummy-dollar-scaled-1600xauto@2x.jpg
END:VEVENT
BEGIN:VEVENT
DTSTART;TZID=America/New_York:20230901T180000
DTEND;TZID=America/New_York:20230901T200000
DTSTAMP:20260423T040423
CREATED:20230821T133525Z
LAST-MODIFIED:20230821T133525Z
UID:10000130-1693591200-1693598400@loudoungop.com
SUMMARY:Meet and Greet With Republican Candidate Team!
DESCRIPTION:Meet and Greet with JUAN PABLO and fellow \nConstitutionals! \nGet to know your Republican candidate team! Join us on September 1st for an informative evening. \n  \n9 Loudoun St SE Leesburg\, VA 20175 \n 
URL:https://loudoungop.com/event/meet-and-greet-with-republican-candidate-team/
LOCATION:9 Loudoun St SE Leesburg\, VA 20175\, 9 Loudoun St SE\, Leesburg\, VA\, 20175\, United States
ATTACH;FMTTYPE=image/jpeg:https://loudoungop.com/wp-content/uploads/2023/08/IMG_9037.jpeg
END:VEVENT
BEGIN:VEVENT
DTSTART;TZID=America/New_York:20230914T180000
DTEND;TZID=America/New_York:20230914T200000
DTSTAMP:20260423T040423
CREATED:20230906T180617Z
LAST-MODIFIED:20230906T180617Z
UID:10000132-1694714400-1694721600@loudoungop.com
SUMMARY:Little River Meet & Greet
DESCRIPTION:LITTLE RIVER MEET & GREET with Loudoun County GOP Candidates! \n  \nTHE HOME OF BETH & DARRIS HESS \n41221 SPECKLED WREN CT \nALDIE\, VA
URL:https://loudoungop.com/event/little-river-meet-greet/
LOCATION:THE HOME OF BETH & DARRIS HESS 41221 SPECKLED WREN CT ALDIE\, VA\, 41221 SPECKLED WREN CT\, Aldie\, VA\, United States
ATTACH;FMTTYPE=image/jpeg:https://loudoungop.com/wp-content/uploads/2023/09/IMG_1922.jpeg
END:VEVENT
BEGIN:VEVENT
DTSTART;TZID=America/New_York:20230917T140000
DTEND;TZID=America/New_York:20230917T170000
DTSTAMP:20260423T040423
CREATED:20230831T234841Z
LAST-MODIFIED:20230831T234841Z
UID:10000131-1694959200-1694970000@loudoungop.com
SUMMARY:DULLES DISTRICT MEET & GREET Presented by Dulles South Republican Ladies
DESCRIPTION:DULLES DISTRICT MEET & GREET \nPresented by Dulles South Republican Ladies \nSEPT 17 \n2 pm- 5 pm \nDulles Loudoun County Sheriff’s Station \n25216 Loudoun County Pkwy \nChantilly\, VA 20152
URL:https://loudoungop.com/event/dulles-district-meet-greet-presented-by-dulles-south-republican-ladies/
LOCATION:25216 Loudoun County Pkwy  Chantilly\, VA\, 25216 Loudoun County Pkwy\, Chantilly\, 20152\, United States
ATTACH;FMTTYPE=image/jpeg:https://loudoungop.com/wp-content/uploads/2023/08/IMG_0936.jpeg
END:VEVENT
BEGIN:VEVENT
DTSTART;TZID=America/New_York:20230923T180000
DTEND;TZID=America/New_York:20230923T220000
DTSTAMP:20260423T040423
CREATED:20230330T004531Z
LAST-MODIFIED:20250519T231435Z
UID:10000117-1695492000-1695506400@loudoungop.com
SUMMARY:Patriot Ball
DESCRIPTION: \nCLICK HERE TO SEE OUR SPONSORS\n \n\nWe cordially invite you to attend Patriot Ball 2023…An evening of elegance and charm set to take place on September 23rd from 6:00 pm to 10:00 pm. Come be a part of a magical night at the luxurious National Conference Center and enjoy the night out with friends.\n\nThis special evening begins with delicious hors d’oeuvres & open bar for all attendees\, an Exclusive VIP hour for our sponsors & VIPs (6:00 pm to 7:00 pm)\, delectable dining\, delightful dancing\, dazzling entertainment\, guest speakers\, & more!\n\nBut that’s not all! We will also be hosting an auction with incredible items up for bid. Whether you’re looking for a luxurious getaway\, a unique piece of artwork\, or a once-in-a-lifetime experience\, we’ve got something for everyone.\n\nDon’t miss out on this extraordinary evening! Dress to impress and prepare to be dazzled by the glitz and glamour of the ball. We look forward to seeing you there!\n\nTake advantage of some very special room rates that the National Conference Center is offering for this evening ($139.00 – includes suite for 2 people & breakfast). Number of rooms are very limited. Book Today!\n\nFor Room Reservations\, Reference “LCRC Patriot Ball” (Call or Email Only)\n\nPhone: 703-729-8000 \n\nEmail: Reservation@conferencecenter.com\n\n \nConfirmed Guests\nGovernor Glenn Youngkin: Born in Richmond and raised in Virginia Beach\, Governor Glenn Youngkin is a homegrown Virginian from humble beginnings….Read more\n\n \n\nMary Millben: Award-winning International Singer & Cultural Ambassador Mary Millben. She is the story of the American dream\, and a brand rooted in God\, ….Read more\n\n \n\nGary Hamrick: Gary Hamrick has been pastoring Cornerstone Chapel in Leesburg\, VA since 1991 when 18 charter members…Read more\n\n \n\nRichard Hayden Black: Richard Hayden Black is a Republican politician. He served as a member of the Virginia State Senate…Read more\n\n \n\nMichael Farris: Mike Farris is a constitutional attorney and tireless defender for religious freedom and parental rights…Read more\n\n \n\nPatti Lyman: Patti Lyman is a born and raised native Virginian overwhelmingly elected RNC National Committeewoman in 2020 by Virginia Republicans in…Read more\n\n \n\nRich Anderson: Rich Anderson was elected in 2020 to a four-year term as chairman of the Republican Party of Virginia (RPV)…Read more\n\n \n\nLarry O’Connor: Larry O’Connor hosts O’Connor and Company\, the politics/pop-culture and lifestyle…Read more\n\n \n\n \n\n \nUS Senate Straw Poll will be conducted at the Patriot Ball.\n\n 	\n\n 	Jonathan Emord\, US Senate Candidate\n 	Kimberly Lowe\, US Senate Candidate\n 	Eddie Garcia\, US Senate Candidate\n 	Chuck Smith\, US Senate Candidate\n 	Chief Ron Vitiello\, US Senate Candidate\n 	Scott Parkinson\, US Senate Candidate\n 	Gwen Hickman\, US Senate Candidate\n 	Hung Cao\, US Senate Candidate\n\n\n\n \nDEADLINE TO BUY TICKETS & SPONSORSHIPS IS SEPTEMBER 1st\, 2023 \nDON’T USE “DUCK DUCK GO” WEB BROWSER TO PURCHASE TICKETS
URL:https://loudoungop.com/event/patriot-ball/
LOCATION:National Conference Center\, 18980 Upper Belmont Place\, Leesburg\, VA\, 20176
CATEGORIES:Events,Fundraising
ATTACH;FMTTYPE=image/png:https://loudoungop.com/wp-content/uploads/2023/03/1920-1080-max.png
ORGANIZER;CN="Loudoun GOP":MAILTO:info@loudoungop.com
END:VEVENT
BEGIN:VEVENT
DTSTART;TZID=America/New_York:20230924T140000
DTEND;TZID=America/New_York:20230924T153000
DTSTAMP:20260423T040423
CREATED:20230920T222145Z
LAST-MODIFIED:20230920T222145Z
UID:10000072-1695564000-1695569400@loudoungop.com
SUMMARY:JOIN ADAMS CIVIC ENGAGEMENT ON SEPTEMBER 24TH\, 2:00PM-3:30 PM HOSTED AT ADAMS CENTER STERLING
DESCRIPTION:SCHOOL BOARD CANDIDATE FORUM \nJOIN ADAMS CIVIC ENGAGEMENT \nON SEPTEMBER 24TH\, 2:00PM-3:30 PM \nHOSTED AT ADAMS CENTER STERLING \n46903 Sugarland Road Sterling\, Virginia 20164 \n 
URL:https://loudoungop.com/event/join-adams-civic-engagement-on-september-24th-200pm-330-pm-hosted-at-adams-center-sterling/
LOCATION:SCHOOL BOARD CANDIDATE FORUM\, 46903 Sugarland Road\, Sterling\, 20164\, United States
END:VEVENT
BEGIN:VEVENT
DTSTART;TZID=America/New_York:20230925T190000
DTEND;TZID=America/New_York:20230925T210000
DTSTAMP:20260423T040423
CREATED:20230525T012830Z
LAST-MODIFIED:20230910T034805Z
UID:10000089-1695668400-1695675600@loudoungop.com
SUMMARY:Membership Meeting 09/25/2023
DESCRIPTION:Business Meeting – Official meeting for LCRCMonday\, September 25th\, 2023\, at 7:00 p.m.Cascades Overlook Event Center (2nd Floor\, Suite 200)21453 Epicerie Plaza\, Sterling\, VA 20164Starts Promptly at 7PM.  Please come 10-15 minutes early for a seat. \nSocial Function – Come socialize with other members.Monday\, September 25th\, 2023\, at 5:30 p.m.Fire Works Pizza21475 Epicerie Plaza\, Sterling\, VA 20164 \nNew Member Orientation (Door on right after checkin table) – Don’t know what you’re getting into?  Come learn.Monday\, September 25th\, 2023\, at 6:30 p.m.Cascades Overlook Event Center (2nd Floor\, Suite 200)21453 Epicerie Plaza\, Sterling\, VA 20164
URL:https://loudoungop.com/event/membership-meeting-09-25-2023-2/
LOCATION:Cascades Overlook Event Center\, 21453 Epicerie Plaza\, Sterling\, VA\, 20164\, United States
CATEGORIES:Events,Meeting
ATTACH;FMTTYPE=image/png:https://loudoungop.com/wp-content/uploads/2022/04/LCRC-Logo-Update-2022_1.png
END:VEVENT
BEGIN:VEVENT
DTSTART;TZID=America/New_York:20230929T180000
DTEND;TZID=America/New_York:20230929T200000
DTSTAMP:20260423T040423
CREATED:20230926T224739Z
LAST-MODIFIED:20230926T224739Z
UID:10000073-1696010400-1696017600@loudoungop.com
SUMMARY:Fundraiser for COMMONWEALTH'S ATTORNEY BOB ANDERSON
DESCRIPTION:COMMONWEALTH’S ATTORNEY\nBOB ANDERSON \nVIRGINIA SENATOR\nDICK BLACK \nFUNDRAISER\nSEPTEMBER 29TH\n6:00-8:00PM \nDC PRIME STEAKS\n20120 LAKEVIEW CENTER PLAZA\nASHBURN\, VA 20147 \nKEYNOTE SPEAKER:\nFORMER STATE SENATOR\nDICK BLACK \n 
URL:https://loudoungop.com/event/fundraiser-for-commonwealths-attorney-bob-anderson/
LOCATION:20120 LAKEVIEW CENTER PLAZA ASHBURN\, VA 20147\, 20120 LAKEVIEW CENTER PLAZA\, Ashburn\, VA\, 20147\, United States
ATTACH;FMTTYPE=image/jpeg:https://loudoungop.com/wp-content/uploads/2023/09/IMG_5579.jpeg
END:VEVENT
END:VCALENDAR